Workbook

Sheet Configuración
A1: Fecha de inicio | B1: Viernes, 15 diciembre, 2023
A2: Fecha de fin | B2: Martes, 30 abril, 2024
A3: País | B3: México
A4: Estado | B4: standard
A5: Fin de semana | B5: Sábado, domingo
A6: Primer día de la semana | B6: Lunes
C7: Horarios (mañana) | E7: Horarios (tarde)
A8: Horas de trabajo | B8: Lunes | C8: 08:00 | D8: 12:00 | E8: 14:00 | F8: 18:00
B9: Martes | C9: 08:00 | D9: 12:00 | E9: 14:00 | F9: 18:00
B10: Miércoles | C10: 08:00 | D10: 12:00 | E10: 14:00 | F10: 18:00
B11: Jueves | C11: 08:00 | D11: 12:00 | E11: 14:00 | F11: 18:00
B12: Viernes | C12: 08:00 | D12: 12:00 | E12: 14:00 | F12: 18:00
B13: Sábado | C13: 08:00 | D13: 12:00 | E13: 14:00 | F13: 18:00
B14: Domingo | C14: 08:00 | D14: 12:00 | E14: 14:00 | F14: 18:00

Sheet Días
A1: Fecha (DD/MM/YYYY) | C1: Día | D1: Día laborable | E1: Día de fin de semana | F1: Día feriado | G1: Descripción | H1: Fechas personalizadas | K1: Numeración (días laborables) | L1: Horas de trabajo | M1: Horarios (mañana) | O1: Horarios (tarde) | S1: Teletrabajo / días | T1: Teletrabajo / horas
A2: Viernes | B2: 15/12/2023 | C2: 1 | D2: 1 | E2: 0 | F2: 0 | K2: 1 | L2: =24*(N2-M2+P2-O2) -> 0 | M2: ='Configuración'!C12 -> 08:00 | N2: ='Configuración'!D12 -> 12:00 | O2: ='Configuración'!E12 -> 14:00 | P2: ='Configuración'!F12 -> 18:00 | S2: 0 | T2: 0
A3: Sábado | B3: 16/12/2023 | C3: 1 | D3: 0 | E3: 1 | F3: 0 | S3: 0 | T3: 0
A4: Domingo | B4: 17/12/2023 | C4: 1 | D4: 0 | E4: 1 | F4: 0 | S4: 0 | T4: 0
A5: Lunes | B5: 18/12/2023 | C5: 1 | D5: 1 | E5: 0 | F5: 0 | K5: 2 | L5: =24*(N5-M5+P5-O5) -> 0 | M5: ='Configuración'!C8 -> 08:00 | N5: ='Configuración'!D8 -> 12:00 | O5: ='Configuración'!E8 -> 14:00 | P5: ='Configuración'!F8 -> 18:00 | S5: 0 | T5: 0
A6: Martes | B6: 19/12/2023 | C6: 1 | D6: 1 | E6: 0 | F6: 0 | K6: 3 | L6: =24*(N6-M6+P6-O6) -> 0 | M6: ='Configuración'!C9 -> 08:00 | N6: ='Configuración'!D9 -> 12:00 | O6: ='Configuración'!E9 -> 14:00 | P6: ='Configuración'!F9 -> 18:00 | S6: 0 | T6: 0
A7: Miércoles | B7: 20/12/2023 | C7: 1 | D7: 1 | E7: 0 | F7: 0 | K7: 4 | L7: =24*(N7-M7+P7-O7) -> 0 | M7: ='Configuración'!C10 -> 08:00 | N7: ='Configuración'!D10 -> 12:00 | O7: ='Configuración'!E10 -> 14:00 | P7: ='Configuración'!F10 -> 18:00 | S7: 0 | T7: 0
A8: Jueves | B8: 21/12/2023 | C8: 1 | D8: 1 | E8: 0 | F8: 0 | K8: 5 | L8: =24*(N8-M8+P8-O8) -> 0 | M8: ='Configuración'!C11 -> 08:00 | N8: ='Configuración'!D11 -> 12:00 | O8: ='Configuración'!E11 -> 14:00 | P8: ='Configuración'!F11 -> 18:00 | S8: 0 | T8: 0
A9: Viernes | B9: 22/12/2023 | C9: 1 | D9: 1 | E9: 0 | F9: 0 | K9: 6 | L9: =24*(N9-M9+P9-O9) -> 0 | M9: ='Configuración'!C12 -> 08:00 | N9: ='Configuración'!D12 -> 12:00 | O9: ='Configuración'!E12 -> 14:00 | P9: ='Configuración'!F12 -> 18:00 | S9: 0 | T9: 0
A10: Sábado | B10: 23/12/2023 | C10: 1 | D10: 0 | E10: 1 | F10: 0 | S10: 0 | T10: 0
A11: Domingo | B11: 24/12/2023 | C11: 1 | D11: 0 | E11: 1 | F11: 0 | S11: 0 | T11: 0
A12: Lunes | B12: 25/12/2023 | C12: 1 | D12: 0 | E12: 0 | F12: 1 | G12: Navidad | S12: 0 | T12: 0
A13: Martes | B13: 26/12/2023 | C13: 1 | D13: 1 | E13: 0 | F13: 0 | K13: 7 | L13: =24*(N13-M13+P13-O13) -> 0 | M13: ='Configuración'!C9 -> 08:00 | N13: ='Configuración'!D9 -> 12:00 | O13: ='Configuración'!E9 -> 14:00 | P13: ='Configuración'!F9 -> 18:00 | S13: 0 | T13: 0
A14: Miércoles | B14: 27/12/2023 | C14: 1 | D14: 1 | E14: 0 | F14: 0 | K14: 8 | L14: =24*(N14-M14+P14-O14) -> 0 | M14: ='Configuración'!C10 -> 08:00 | N14: ='Configuración'!D10 -> 12:00 | O14: ='Configuración'!E10 -> 14:00 | P14: ='Configuración'!F10 -> 18:00 | S14: 0 | T14: 0
A15: Jueves | B15: 28/12/2023 | C15: 1 | D15: 1 | E15: 0 | F15: 0 | K15: 9 | L15: =24*(N15-M15+P15-O15) -> 0 | M15: ='Configuración'!C11 -> 08:00 | N15: ='Configuración'!D11 -> 12:00 | O15: ='Configuración'!E11 -> 14:00 | P15: ='Configuración'!F11 -> 18:00 | S15: 0 | T15: 0
A16: Viernes | B16: 29/12/2023 | C16: 1 | D16: 1 | E16: 0 | F16: 0 | K16: 10 | L16: =24*(N16-M16+P16-O16) -> 0 | M16: ='Configuración'!C12 -> 08:00 | N16: ='Configuración'!D12 -> 12:00 | O16: ='Configuración'!E12 -> 14:00 | P16: ='Configuración'!F12 -> 18:00 | S16: 0 | T16: 0
A17: Sábado | B17: 30/12/2023 | C17: 1 | D17: 0 | E17: 1 | F17: 0 | S17: 0 | T17: 0
A18: Domingo | B18: 31/12/2023 | C18: 1 | D18: 0 | E18: 1 | F18: 0 | S18: 0 | T18: 0
A19: Lunes | B19: 01/01/2024 | C19: 1 | D19: 0 | E19: 0 | F19: 1 | G19: Año Nuevo | S19: 0 | T19: 0
A20: Martes | B20: 02/01/2024 | C20: 1 | D20: 1 | E20: 0 | F20: 0 | K20: 11 | L20: =24*(N20-M20+P20-O20) -> 0 | M20: ='Configuración'!C9 -> 08:00 | N20: ='Configuración'!D9 -> 12:00 | O20: ='Configuración'!E9 -> 14:00 | P20: ='Configuración'!F9 -> 18:00 | S20: 0 | T20: 0
A21: Miércoles | B21: 03/01/2024 | C21: 1 | D21: 1 | E21: 0 | F21: 0 | K21: 12 | L21: =24*(N21-M21+P21-O21) -> 0 | M21: ='Configuración'!C10 -> 08:00 | N21: ='Configuración'!D10 -> 12:00 | O21: ='Configuración'!E10 -> 14:00 | P21: ='Configuración'!F10 -> 18:00 | S21: 0 | T21: 0
A22: Jueves | B22: 04/01/2024 | C22: 1 | D22: 1 | E22: 0 | F22: 0 | K22: 13 | L22: =24*(N22-M22+P22-O22) -> 0 | M22: ='Configuración'!C11 -> 08:00 | N22: ='Configuración'!D11 -> 12:00 | O22: ='Configuración'!E11 -> 14:00 | P22: ='Configuración'!F11 -> 18:00 | S22: 0 | T22: 0
A23: Viernes | B23: 05/01/2024 | C23: 1 | D23: 1 | E23: 0 | F23: 0 | K23: 14 | L23: =24*(N23-M23+P23-O23) -> 0 | M23: ='Configuración'!C12 -> 08:00 | N23: ='Configuración'!D12 -> 12:00 | O23: ='Configuración'!E12 -> 14:00 | P23: ='Configuración'!F12 -> 18:00 | S23: 0 | T23: 0
A24: Sábado | B24: 06/01/2024 | C24: 1 | D24: 0 | E24: 1 | F24: 0 | S24: 0 | T24: 0
A25: Domingo | B25: 07/01/2024 | C25: 1 | D25: 0 | E25: 1 | F25: 0 | S25: 0 | T25: 0
A26: Lunes | B26: 08/01/2024 | C26: 1 | D26: 1 | E26: 0 | F26: 0 | K26: 15 | L26: =24*(N26-M26+P26-O26) -> 0 | M26: ='Configuración'!C8 -> 08:00 | N26: ='Configuración'!D8 -> 12:00 | O26: ='Configuración'!E8 -> 14:00 | P26: ='Configuración'!F8 -> 18:00 | S26: 0 | T26: 0
A27: Martes | B27: 09/01/2024 | C27: 1 | D27: 1 | E27: 0 | F27: 0 | K27: 16 | L27: =24*(N27-M27+P27-O27) -> 0 | M27: ='Configuración'!C9 -> 08:00 | N27: ='Configuración'!D9 -> 12:00 | O27: ='Configuración'!E9 -> 14:00 | P27: ='Configuración'!F9 -> 18:00 | S27: 0 | T27: 0
A28: Miércoles | B28: 10/01/2024 | C28: 1 | D28: 1 | E28: 0 | F28: 0 | K28: 17 | L28: =24*(N28-M28+P28-O28) -> 0 | M28: ='Configuración'!C10 -> 08:00 | N28: ='Configuración'!D10 -> 12:00 | O28: ='Configuración'!E10 -> 14:00 | P28: ='Configuración'!F10 -> 18:00 | S28: 0 | T28: 0
A29: Jueves | B29: 11/01/2024 | C29: 1 | D29: 1 | E29: 0 | F29: 0 | K29: 18 | L29: =24*(N29-M29+P29-O29) -> 0 | M29: ='Configuración'!C11 -> 08:00 | N29: ='Configuración'!D11 -> 12:00 | O29: ='Configuración'!E11 -> 14:00 | P29: ='Configuración'!F11 -> 18:00 | S29: 0 | T29: 0
A30: Viernes | B30: 12/01/2024 | C30: 1 | D30: 1 | E30: 0 | F30: 0 | K30: 19 | L30: =24*(N30-M30+P30-O30) -> 0 | M30: ='Configuración'!C12 -> 08:00 | N30: ='Configuración'!D12 -> 12:00 | O30: ='Configuración'!E12 -> 14:00 | P30: ='Configuración'!F12 -> 18:00 | S30: 0 | T30: 0
A31: Sábado | B31: 13/01/2024 | C31: 1 | D31: 0 | E31: 1 | F31: 0 | S31: 0 | T31: 0
A32: Domingo | B32: 14/01/2024 | C32: 1 | D32: 0 | E32: 1 | F32: 0 | S32: 0 | T32: 0
A33: Lunes | B33: 15/01/2024 | C33: 1 | D33: 1 | E33: 0 | F33: 0 | K33: 20 | L33: =24*(N33-M33+P33-O33) -> 0 | M33: ='Configuración'!C8 -> 08:00 | N33: ='Configuración'!D8 -> 12:00 | O33: ='Configuración'!E8 -> 14:00 | P33: ='Configuración'!F8 -> 18:00 | S33: 0 | T33: 0
A34: Martes | B34: 16/01/2024 | C34: 1 | D34: 1 | E34: 0 | F34: 0 | K34: 21 | L34: =24*(N34-M34+P34-O34) -> 0 | M34: ='Configuración'!C9 -> 08:00 | N34: ='Configuración'!D9 -> 12:00 | O34: ='Configuración'!E9 -> 14:00 | P34: ='Configuración'!F9 -> 18:00 | S34: 0 | T34: 0
A35: Miércoles | B35: 17/01/2024 | C35: 1 | D35: 1 | E35: 0 | F35: 0 | K35: 22 | L35: =24*(N35-M35+P35-O35) -> 0 | M35: ='Configuración'!C10 -> 08:00 | N35: ='Configuración'!D10 -> 12:00 | O35: ='Configuración'!E10 -> 14:00 | P35: ='Configuración'!F10 -> 18:00 | S35: 0 | T35: 0
A36: Jueves | B36: 18/01/2024 | C36: 1 | D36: 1 | E36: 0 | F36: 0 | K36: 23 | L36: =24*(N36-M36+P36-O36) -> 0 | M36: ='Configuración'!C11 -> 08:00 | N36: ='Configuración'!D11 -> 12:00 | O36: ='Configuración'!E11 -> 14:00 | P36: ='Configuración'!F11 -> 18:00 | S36: 0 | T36: 0
A37: Viernes | B37: 19/01/2024 | C37: 1 | D37: 1 | E37: 0 | F37: 0 | K37: 24 | L37: =24*(N37-M37+P37-O37) -> 0 | M37: ='Configuración'!C12 -> 08:00 | N37: ='Configuración'!D12 -> 12:00 | O37: ='Configuración'!E12 -> 14:00 | P37: ='Configuración'!F12 -> 18:00 | S37: 0 | T37: 0
A38: Sábado | B38: 20/01/2024 | C38: 1 | D38: 0 | E38: 1 | F38: 0 | S38: 0 | T38: 0
A39: Domingo | B39: 21/01/2024 | C39: 1 | D39: 0 | E39: 1 | F39: 0 | S39: 0 | T39: 0
A40: Lunes | B40: 22/01/2024 | C40: 1 | D40: 1 | E40: 0 | F40: 0 | K40: 25 | L40: =24*(N40-M40+P40-O40) -> 0 | M40: ='Configuración'!C8 -> 08:00 | N40: ='Configuración'!D8 -> 12:00 | O40: ='Configuración'!E8 -> 14:00 | P40: ='Configuración'!F8 -> 18:00 | S40: 0 | T40: 0
A41: Martes | B41: 23/01/2024 | C41: 1 | D41: 1 | E41: 0 | F41: 0 | K41: 26 | L41: =24*(N41-M41+P41-O41) -> 0 | M41: ='Configuración'!C9 -> 08:00 | N41: ='Configuración'!D9 -> 12:00 | O41: ='Configuración'!E9 -> 14:00 | P41: ='Configuración'!F9 -> 18:00 | S41: 0 | T41: 0
A42: Miércoles | B42: 24/01/2024 | C42: 1 | D42: 1 | E42: 0 | F42: 0 | K42: 27 | L42: =24*(N42-M42+P42-O42) -> 0 | M42: ='Configuración'!C10 -> 08:00 | N42: ='Configuración'!D10 -> 12:00 | O42: ='Configuración'!E10 -> 14:00 | P42: ='Configuración'!F10 -> 18:00 | S42: 0 | T42: 0
A43: Jueves | B43: 25/01/2024 | C43: 1 | D43: 1 | E43: 0 | F43: 0 | K43: 28 | L43: =24*(N43-M43+P43-O43) -> 0 | M43: ='Configuración'!C11 -> 08:00 | N43: ='Configuración'!D11 -> 12:00 | O43: ='Configuración'!E11 -> 14:00 | P43: ='Configuración'!F11 -> 18:00 | S43: 0 | T43: 0
A44: Viernes | B44: 26/01/2024 | C44: 1 | D44: 1 | E44: 0 | F44: 0 | K44: 29 | L44: =24*(N44-M44+P44-O44) -> 0 | M44: ='Configuración'!C12 -> 08:00 | N44: ='Configuración'!D12 -> 12:00 | O44: ='Configuración'!E12 -> 14:00 | P44: ='Configuración'!F12 -> 18:00 | S44: 0 | T44: 0
A45: Sábado | B45: 27/01/2024 | C45: 1 | D45: 0 | E45: 1 | F45: 0 | S45: 0 | T45: 0
A46: Domingo | B46: 28/01/2024 | C46: 1 | D46: 0 | E46: 1 | F46: 0 | S46: 0 | T46: 0
A47: Lunes | B47: 29/01/2024 | C47: 1 | D47: 1 | E47: 0 | F47: 0 | K47: 30 | L47: =24*(N47-M47+P47-O47) -> 0 | M47: ='Configuración'!C8 -> 08:00 | N47: ='Configuración'!D8 -> 12:00 | O47: ='Configuración'!E8 -> 14:00 | P47: ='Configuración'!F8 -> 18:00 | S47: 0 | T47: 0
A48: Martes | B48: 30/01/2024 | C48: 1 | D48: 1 | E48: 0 | F48: 0 | K48: 31 | L48: =24*(N48-M48+P48-O48) -> 0 | M48: ='Configuración'!C9 -> 08:00 | N48: ='Configuración'!D9 -> 12:00 | O48: ='Configuración'!E9 -> 14:00 | P48: ='Configuración'!F9 -> 18:00 | S48: 0 | T48: 0
A49: Miércoles | B49: 31/01/2024 | C49: 1 | D49: 1 | E49: 0 | F49: 0 | K49: 32 | L49: =24*(N49-M49+P49-O49) -> 0 | M49: ='Configuración'!C10 -> 08:00 | N49: ='Configuración'!D10 -> 12:00 | O49: ='Configuración'!E10 -> 14:00 | P49: ='Configuración'!F10 -> 18:00 | S49: 0 | T49: 0
A50: Jueves | B50: 01/02/2024 | C50: 1 | D50: 1 | E50: 0 | F50: 0 | K50: 33 | L50: =24*(N50-M50+P50-O50) -> 0 | M50: ='Configuración'!C11 -> 08:00 | N50: ='Configuración'!D11 -> 12:00 | O50: ='Configuración'!E11 -> 14:00 | P50: ='Configuración'!F11 -> 18:00 | S50: 0 | T50: 0
A51: Viernes | B51: 02/02/2024 | C51: 1 | D51: 1 | E51: 0 | F51: 0 | K51: 34 | L51: =24*(N51-M51+P51-O51) -> 0 | M51: ='Configuración'!C12 -> 08:00 | N51: ='Configuración'!D12 -> 12:00 | O51: ='Configuración'!E12 -> 14:00 | P51: ='Configuración'!F12 -> 18:00 | S51: 0 | T51: 0
A52: Sábado | B52: 03/02/2024 | C52: 1 | D52: 0 | E52: 1 | F52: 0 | S52: 0 | T52: 0
A53: Domingo | B53: 04/02/2024 | C53: 1 | D53: 0 | E53: 1 | F53: 0 | S53: 0 | T53: 0
A54: Lunes | B54: 05/02/2024 | C54: 1 | D54: 0 | E54: 0 | F54: 1 | G54: Día de la Constitución | S54: 0 | T54: 0
A55: Martes | B55: 06/02/2024 | C55: 1 | D55: 1 | E55: 0 | F55: 0 | K55: 35 | L55: =24*(N55-M55+P55-O55) -> 0 | M55: ='Configuración'!C9 -> 08:00 | N55: ='Configuración'!D9 -> 12:00 | O55: ='Configuración'!E9 -> 14:00 | P55: ='Configuración'!F9 -> 18:00 | S55: 0 | T55: 0
A56: Miércoles | B56: 07/02/2024 | C56: 1 | D56: 1 | E56: 0 | F56: 0 | K56: 36 | L56: =24*(N56-M56+P56-O56) -> 0 | M56: ='Configuración'!C10 -> 08:00 | N56: ='Configuración'!D10 -> 12:00 | O56: ='Configuración'!E10 -> 14:00 | P56: ='Configuración'!F10 -> 18:00 | S56: 0 | T56: 0
A57: Jueves | B57: 08/02/2024 | C57: 1 | D57: 1 | E57: 0 | F57: 0 | K57: 37 | L57: =24*(N57-M57+P57-O57) -> 0 | M57: ='Configuración'!C11 -> 08:00 | N57: ='Configuración'!D11 -> 12:00 | O57: ='Configuración'!E11 -> 14:00 | P57: ='Configuración'!F11 -> 18:00 | S57: 0 | T57: 0
A58: Viernes | B58: 09/02/2024 | C58: 1 | D58: 1 | E58: 0 | F58: 0 | K58: 38 | L58: =24*(N58-M58+P58-O58) -> 0 | M58: ='Configuración'!C12 -> 08:00 | N58: ='Configuración'!D12 -> 12:00 | O58: ='Configuración'!E12 -> 14:00 | P58: ='Configuración'!F12 -> 18:00 | S58: 0 | T58: 0
A59: Sábado | B59: 10/02/2024 | C59: 1 | D59: 0 | E59: 1 | F59: 0 | S59: 0 | T59: 0
A60: Domingo | B60: 11/02/2024 | C60: 1 | D60: 0 | E60: 1 | F60: 0 | S60: 0 | T60: 0
A61: Lunes | B61: 12/02/2024 | C61: 1 | D61: 1 | E61: 0 | F61: 0 | K61: 39 | L61: =24*(N61-M61+P61-O61) -> 0 | M61: ='Configuración'!C8 -> 08:00 | N61: ='Configuración'!D8 -> 12:00 | O61: ='Configuración'!E8 -> 14:00 | P61: ='Configuración'!F8 -> 18:00 | S61: 0 | T61: 0
A62: Martes | B62: 13/02/2024 | C62: 1 | D62: 1 | E62: 0 | F62: 0 | K62: 40 | L62: =24*(N62-M62+P62-O62) -> 0 | M62: ='Configuración'!C9 -> 08:00 | N62: ='Configuración'!D9 -> 12:00 | O62: ='Configuración'!E9 -> 14:00 | P62: ='Configuración'!F9 -> 18:00 | S62: 0 | T62: 0
A63: Miércoles | B63: 14/02/2024 | C63: 1 | D63: 1 | E63: 0 | F63: 0 | K63: 41 | L63: =24*(N63-M63+P63-O63) -> 0 | M63: ='Configuración'!C10 -> 08:00 | N63: ='Configuración'!D10 -> 12:00 | O63: ='Configuración'!E10 -> 14:00 | P63: ='Configuración'!F10 -> 18:00 | S63: 0 | T63: 0
A64: Jueves | B64: 15/02/2024 | C64: 1 | D64: 1 | E64: 0 | F64: 0 | K64: 42 | L64: =24*(N64-M64+P64-O64) -> 0 | M64: ='Configuración'!C11 -> 08:00 | N64: ='Configuración'!D11 -> 12:00 | O64: ='Configuración'!E11 -> 14:00 | P64: ='Configuración'!F11 -> 18:00 | S64: 0 | T64: 0
A65: Viernes | B65: 16/02/2024 | C65: 1 | D65: 1 | E65: 0 | F65: 0 | K65: 43 | L65: =24*(N65-M65+P65-O65) -> 0 | M65: ='Configuración'!C12 -> 08:00 | N65: ='Configuración'!D12 -> 12:00 | O65: ='Configuración'!E12 -> 14:00 | P65: ='Configuración'!F12 -> 18:00 | S65: 0 | T65: 0
A66: Sábado | B66: 17/02/2024 | C66: 1 | D66: 0 | E66: 1 | F66: 0 | S66: 0 | T66: 0
A67: Domingo | B67: 18/02/2024 | C67: 1 | D67: 0 | E67: 1 | F67: 0 | S67: 0 | T67: 0
A68: Lunes | B68: 19/02/2024 | C68: 1 | D68: 1 | E68: 0 | F68: 0 | K68: 44 | L68: =24*(N68-M68+P68-O68) -> 0 | M68: ='Configuración'!C8 -> 08:00 | N68: ='Configuración'!D8 -> 12:00 | O68: ='Configuración'!E8 -> 14:00 | P68: ='Configuración'!F8 -> 18:00 | S68: 0 | T68: 0
A69: Martes | B69: 20/02/2024 | C69: 1 | D69: 1 | E69: 0 | F69: 0 | K69: 45 | L69: =24*(N69-M69+P69-O69) -> 0 | M69: ='Configuración'!C9 -> 08:00 | N69: ='Configuración'!D9 -> 12:00 | O69: ='Configuración'!E9 -> 14:00 | P69: ='Configuración'!F9 -> 18:00 | S69: 0 | T69: 0
A70: Miércoles | B70: 21/02/2024 | C70: 1 | D70: 1 | E70: 0 | F70: 0 | K70: 46 | L70: =24*(N70-M70+P70-O70) -> 0 | M70: ='Configuración'!C10 -> 08:00 | N70: ='Configuración'!D10 -> 12:00 | O70: ='Configuración'!E10 -> 14:00 | P70: ='Configuración'!F10 -> 18:00 | S70: 0 | T70: 0
A71: Jueves | B71: 22/02/2024 | C71: 1 | D71: 1 | E71: 0 | F71: 0 | K71: 47 | L71: =24*(N71-M71+P71-O71) -> 0 | M71: ='Configuración'!C11 -> 08:00 | N71: ='Configuración'!D11 -> 12:00 | O71: ='Configuración'!E11 -> 14:00 | P71: ='Configuración'!F11 -> 18:00 | S71: 0 | T71: 0
A72: Viernes | B72: 23/02/2024 | C72: 1 | D72: 1 | E72: 0 | F72: 0 | K72: 48 | L72: =24*(N72-M72+P72-O72) -> 0 | M72: ='Configuración'!C12 -> 08:00 | N72: ='Configuración'!D12 -> 12:00 | O72: ='Configuración'!E12 -> 14:00 | P72: ='Configuración'!F12 -> 18:00 | S72: 0 | T72: 0
A73: Sábado | B73: 24/02/2024 | C73: 1 | D73: 0 | E73: 1 | F73: 0 | S73: 0 | T73: 0
A74: Domingo | B74: 25/02/2024 | C74: 1 | D74: 0 | E74: 1 | F74: 0 | S74: 0 | T74: 0
A75: Lunes | B75: 26/02/2024 | C75: 1 | D75: 1 | E75: 0 | F75: 0 | K75: 49 | L75: =24*(N75-M75+P75-O75) -> 0 | M75: ='Configuración'!C8 -> 08:00 | N75: ='Configuración'!D8 -> 12:00 | O75: ='Configuración'!E8 -> 14:00 | P75: ='Configuración'!F8 -> 18:00 | S75: 0 | T75: 0
A76: Martes | B76: 27/02/2024 | C76: 1 | D76: 1 | E76: 0 | F76: 0 | K76: 50 | L76: =24*(N76-M76+P76-O76) -> 0 | M76: ='Configuración'!C9 -> 08:00 | N76: ='Configuración'!D9 -> 12:00 | O76: ='Configuración'!E9 -> 14:00 | P76: ='Configuración'!F9 -> 18:00 | S76: 0 | T76: 0
A77: Miércoles | B77: 28/02/2024 | C77: 1 | D77: 1 | E77: 0 | F77: 0 | K77: 51 | L77: =24*(N77-M77+P77-O77) -> 0 | M77: ='Configuración'!C10 -> 08:00 | N77: ='Configuración'!D10 -> 12:00 | O77: ='Configuración'!E10 -> 14:00 | P77: ='Configuración'!F10 -> 18:00 | S77: 0 | T77: 0
A78: Jueves | B78: 29/02/2024 | C78: 1 | D78: 1 | E78: 0 | F78: 0 | K78: 52 | L78: =24*(N78-M78+P78-O78) -> 0 | M78: ='Configuración'!C11 -> 08:00 | N78: ='Configuración'!D11 -> 12:00 | O78: ='Configuración'!E11 -> 14:00 | P78: ='Configuración'!F11 -> 18:00 | S78: 0 | T78: 0
A79: Viernes | B79: 01/03/2024 | C79: 1 | D79: 1 | E79: 0 | F79: 0 | K79: 53 | L79: =24*(N79-M79+P79-O79) -> 0 | M79: ='Configuración'!C12 -> 08:00 | N79: ='Configuración'!D12 -> 12:00 | O79: ='Configuración'!E12 -> 14:00 | P79: ='Configuración'!F12 -> 18:00 | S79: 0 | T79: 0
A80: Sábado | B80: 02/03/2024 | C80: 1 | D80: 0 | E80: 1 | F80: 0 | S80: 0 | T80: 0
A81: Domingo | B81: 03/03/2024 | C81: 1 | D81: 0 | E81: 1 | F81: 0 | S81: 0 | T81: 0
A82: Lunes | B82: 04/03/2024 | C82: 1 | D82: 1 | E82: 0 | F82: 0 | K82: 54 | L82: =24*(N82-M82+P82-O82) -> 0 | M82: ='Configuración'!C8 -> 08:00 | N82: ='Configuración'!D8 -> 12:00 | O82: ='Configuración'!E8 -> 14:00 | P82: ='Configuración'!F8 -> 18:00 | S82: 0 | T82: 0
A83: Martes | B83: 05/03/2024 | C83: 1 | D83: 1 | E83: 0 | F83: 0 | K83: 55 | L83: =24*(N83-M83+P83-O83) -> 0 | M83: ='Configuración'!C9 -> 08:00 | N83: ='Configuración'!D9 -> 12:00 | O83: ='Configuración'!E9 -> 14:00 | P83: ='Configuración'!F9 -> 18:00 | S83: 0 | T83: 0
A84: Miércoles | B84: 06/03/2024 | C84: 1 | D84: 1 | E84: 0 | F84: 0 | K84: 56 | L84: =24*(N84-M84+P84-O84) -> 0 | M84: ='Configuración'!C10 -> 08:00 | N84: ='Configuración'!D10 -> 12:00 | O84: ='Configuración'!E10 -> 14:00 | P84: ='Configuración'!F10 -> 18:00 | S84: 0 | T84: 0
A85: Jueves | B85: 07/03/2024 | C85: 1 | D85: 1 | E85: 0 | F85: 0 | K85: 57 | L85: =24*(N85-M85+P85-O85) -> 0 | M85: ='Configuración'!C11 -> 08:00 | N85: ='Configuración'!D11 -> 12:00 | O85: ='Configuración'!E11 -> 14:00 | P85: ='Configuración'!F11 -> 18:00 | S85: 0 | T85: 0
A86: Viernes | B86: 08/03/2024 | C86: 1 | D86: 1 | E86: 0 | F86: 0 | K86: 58 | L86: =24*(N86-M86+P86-O86) -> 0 | M86: ='Configuración'!C12 -> 08:00 | N86: ='Configuración'!D12 -> 12:00 | O86: ='Configuración'!E12 -> 14:00 | P86: ='Configuración'!F12 -> 18:00 | S86: 0 | T86: 0
A87: Sábado | B87: 09/03/2024 | C87: 1 | D87: 0 | E87: 1 | F87: 0 | S87: 0 | T87: 0
A88: Domingo | B88: 10/03/2024 | C88: 1 | D88: 0 | E88: 1 | F88: 0 | S88: 0 | T88: 0
A89: Lunes | B89: 11/03/2024 | C89: 1 | D89: 1 | E89: 0 | F89: 0 | K89: 59 | L89: =24*(N89-M89+P89-O89) -> 0 | M89: ='Configuración'!C8 -> 08:00 | N89: ='Configuración'!D8 -> 12:00 | O89: ='Configuración'!E8 -> 14:00 | P89: ='Configuración'!F8 -> 18:00 | S89: 0 | T89: 0
A90: Martes | B90: 12/03/2024 | C90: 1 | D90: 1 | E90: 0 | F90: 0 | K90: 60 | L90: =24*(N90-M90+P90-O90) -> 0 | M90: ='Configuración'!C9 -> 08:00 | N90: ='Configuración'!D9 -> 12:00 | O90: ='Configuración'!E9 -> 14:00 | P90: ='Configuración'!F9 -> 18:00 | S90: 0 | T90: 0
A91: Miércoles | B91: 13/03/2024 | C91: 1 | D91: 1 | E91: 0 | F91: 0 | K91: 61 | L91: =24*(N91-M91+P91-O91) -> 0 | M91: ='Configuración'!C10 -> 08:00 | N91: ='Configuración'!D10 -> 12:00 | O91: ='Configuración'!E10 -> 14:00 | P91: ='Configuración'!F10 -> 18:00 | S91: 0 | T91: 0
A92: Jueves | B92: 14/03/2024 | C92: 1 | D92: 1 | E92: 0 | F92: 0 | K92: 62 | L92: =24*(N92-M92+P92-O92) -> 0 | M92: ='Configuración'!C11 -> 08:00 | N92: ='Configuración'!D11 -> 12:00 | O92: ='Configuración'!E11 -> 14:00 | P92: ='Configuración'!F11 -> 18:00 | S92: 0 | T92: 0
A93: Viernes | B93: 15/03/2024 | C93: 1 | D93: 1 | E93: 0 | F93: 0 | K93: 63 | L93: =24*(N93-M93+P93-O93) -> 0 | M93: ='Configuración'!C12 -> 08:00 | N93: ='Configuración'!D12 -> 12:00 | O93: ='Configuración'!E12 -> 14:00 | P93: ='Configuración'!F12 -> 18:00 | S93: 0 | T93: 0
A94: Sábado | B94: 16/03/2024 | C94: 1 | D94: 0 | E94: 1 | F94: 0 | S94: 0 | T94: 0
A95: Domingo | B95: 17/03/2024 | C95: 1 | D95: 0 | E95: 1 | F95: 0 | S95: 0 | T95: 0
A96: Lunes | B96: 18/03/2024 | C96: 1 | D96: 0 | E96: 0 | F96: 1 | G96: Natalicio de Benito Juárez | S96: 0 | T96: 0
A97: Martes | B97: 19/03/2024 | C97: 1 | D97: 1 | E97: 0 | F97: 0 | K97: 64 | L97: =24*(N97-M97+P97-O97) -> 0 | M97: ='Configuración'!C9 -> 08:00 | N97: ='Configuración'!D9 -> 12:00 | O97: ='Configuración'!E9 -> 14:00 | P97: ='Configuración'!F9 -> 18:00 | S97: 0 | T97: 0
A98: Miércoles | B98: 20/03/2024 | C98: 1 | D98: 1 | E98: 0 | F98: 0 | K98: 65 | L98: =24*(N98-M98+P98-O98) -> 0 | M98: ='Configuración'!C10 -> 08:00 | N98: ='Configuración'!D10 -> 12:00 | O98: ='Configuración'!E10 -> 14:00 | P98: ='Configuración'!F10 -> 18:00 | S98: 0 | T98: 0
A99: Jueves | B99: 21/03/2024 | C99: 1 | D99: 1 | E99: 0 | F99: 0 | K99: 66 | L99: =24*(N99-M99+P99-O99) -> 0 | M99: ='Configuración'!C11 -> 08:00 | N99: ='Configuración'!D11 -> 12:00 | O99: ='Configuración'!E11 -> 14:00 | P99: ='Configuración'!F11 -> 18:00 | S99: 0 | T99: 0
A100: Viernes | B100: 22/03/2024 | C100: 1 | D100: 1 | E100: 0 | F100: 0 | K100: 67 | L100: =24*(N100-M100+P100-O100) -> 0 | M100: ='Configuración'!C12 -> 08:00 | N100: ='Configuración'!D12 -> 12:00 | O100: ='Configuración'!E12 -> 14:00 | P100: ='Configuración'!F12 -> 18:00 | S100: 0 | T100: 0
...

Sheet Semanas
A1: Semana | B1: Días | C1: Días laborables | D1: Fin de semana | E1: Días feriados | F1: Custom dates | G1: Horas de trabajo
A2: 15/12/2023 → 17/12/2023 | B2: =SUM(Días!C2:C4) -> 3 | C2: =SUM(Días!D2:D4) -> 1 | D2: =SUM(Días!E2:E4) -> 2 | E2: =SUM(Días!F2:F4) -> 0 | F2: =SUM(Días!H2:H4) -> 0 | G2: =SUM(Días!L2:L4) -> 0
A3: 18/12/2023 → 24/12/2023 | B3: =SUM(Días!C5:C11) -> 7 | C3: =SUM(Días!D5:D11) -> 5 | D3: =SUM(Días!E5:E11) -> 2 | E3: =SUM(Días!F5:F11) -> 0 | F3: =SUM(Días!H5:H11) -> 0 | G3: =SUM(Días!L5:L11) -> 0
A4: 25/12/2023 → 31/12/2023 | B4: =SUM(Días!C12:C18) -> 7 | C4: =SUM(Días!D12:D18) -> 4 | D4: =SUM(Días!E12:E18) -> 2 | E4: =SUM(Días!F12:F18) -> 1 | F4: =SUM(Días!H12:H18) -> 0 | G4: =SUM(Días!L12:L18) -> 0
A5: 01/01/2024 → 07/01/2024 | B5: =SUM(Días!C19:C25) -> 7 | C5: =SUM(Días!D19:D25) -> 4 | D5: =SUM(Días!E19:E25) -> 2 | E5: =SUM(Días!F19:F25) -> 1 | F5: =SUM(Días!H19:H25) -> 0 | G5: =SUM(Días!L19:L25) -> 0
A6: 08/01/2024 → 14/01/2024 | B6: =SUM(Días!C26:C32) -> 7 | C6: =SUM(Días!D26:D32) -> 5 | D6: =SUM(Días!E26:E32) -> 2 | E6: =SUM(Días!F26:F32) -> 0 | F6: =SUM(Días!H26:H32) -> 0 | G6: =SUM(Días!L26:L32) -> 0
A7: 15/01/2024 → 21/01/2024 | B7: =SUM(Días!C33:C39) -> 7 | C7: =SUM(Días!D33:D39) -> 5 | D7: =SUM(Días!E33:E39) -> 2 | E7: =SUM(Días!F33:F39) -> 0 | F7: =SUM(Días!H33:H39) -> 0 | G7: =SUM(Días!L33:L39) -> 0
A8: 22/01/2024 → 28/01/2024 | B8: =SUM(Días!C40:C46) -> 7 | C8: =SUM(Días!D40:D46) -> 5 | D8: =SUM(Días!E40:E46) -> 2 | E8: =SUM(Días!F40:F46) -> 0 | F8: =SUM(Días!H40:H46) -> 0 | G8: =SUM(Días!L40:L46) -> 0
A9: 29/01/2024 → 04/02/2024 | B9: =SUM(Días!C47:C53) -> 7 | C9: =SUM(Días!D47:D53) -> 5 | D9: =SUM(Días!E47:E53) -> 2 | E9: =SUM(Días!F47:F53) -> 0 | F9: =SUM(Días!H47:H53) -> 0 | G9: =SUM(Días!L47:L53) -> 0
A10: 05/02/2024 → 11/02/2024 | B10: =SUM(Días!C54:C60) -> 7 | C10: =SUM(Días!D54:D60) -> 4 | D10: =SUM(Días!E54:E60) -> 2 | E10: =SUM(Días!F54:F60) -> 1 | F10: =SUM(Días!H54:H60) -> 0 | G10: =SUM(Días!L54:L60) -> 0
A11: 12/02/2024 → 18/02/2024 | B11: =SUM(Días!C61:C67) -> 7 | C11: =SUM(Días!D61:D67) -> 5 | D11: =SUM(Días!E61:E67) -> 2 | E11: =SUM(Días!F61:F67) -> 0 | F11: =SUM(Días!H61:H67) -> 0 | G11: =SUM(Días!L61:L67) -> 0
A12: 19/02/2024 → 25/02/2024 | B12: =SUM(Días!C68:C74) -> 7 | C12: =SUM(Días!D68:D74) -> 5 | D12: =SUM(Días!E68:E74) -> 2 | E12: =SUM(Días!F68:F74) -> 0 | F12: =SUM(Días!H68:H74) -> 0 | G12: =SUM(Días!L68:L74) -> 0
A13: 26/02/2024 → 03/03/2024 | B13: =SUM(Días!C75:C81) -> 7 | C13: =SUM(Días!D75:D81) -> 5 | D13: =SUM(Días!E75:E81) -> 2 | E13: =SUM(Días!F75:F81) -> 0 | F13: =SUM(Días!H75:H81) -> 0 | G13: =SUM(Días!L75:L81) -> 0
A14: 04/03/2024 → 10/03/2024 | B14: =SUM(Días!C82:C88) -> 7 | C14: =SUM(Días!D82:D88) -> 5 | D14: =SUM(Días!E82:E88) -> 2 | E14: =SUM(Días!F82:F88) -> 0 | F14: =SUM(Días!H82:H88) -> 0 | G14: =SUM(Días!L82:L88) -> 0
A15: 11/03/2024 → 17/03/2024 | B15: =SUM(Días!C89:C95) -> 7 | C15: =SUM(Días!D89:D95) -> 5 | D15: =SUM(Días!E89:E95) -> 2 | E15: =SUM(Días!F89:F95) -> 0 | F15: =SUM(Días!H89:H95) -> 0 | G15: =SUM(Días!L89:L95) -> 0
A16: 18/03/2024 → 24/03/2024 | B16: =SUM(Días!C96:C102) -> 7 | C16: =SUM(Días!D96:D102) -> 4 | D16: =SUM(Días!E96:E102) -> 2 | E16: =SUM(Días!F96:F102) -> 1 | F16: =SUM(Días!H96:H102) -> 0 | G16: =SUM(Días!L96:L102) -> 0
A17: 25/03/2024 → 31/03/2024 | B17: =SUM(Días!C103:C109) -> 7 | C17: =SUM(Días!D103:D109) -> 4 | D17: =SUM(Días!E103:E109) -> 2 | E17: =SUM(Días!F103:F109) -> 1 | F17: =SUM(Días!H103:H109) -> 0 | G17: =SUM(Días!L103:L109) -> 0
A18: 01/04/2024 → 07/04/2024 | B18: =SUM(Días!C110:C116) -> 7 | C18: =SUM(Días!D110:D116) -> 5 | D18: =SUM(Días!E110:E116) -> 2 | E18: =SUM(Días!F110:F116) -> 0 | F18: =SUM(Días!H110:H116) -> 0 | G18: =SUM(Días!L110:L116) -> 0
A19: 08/04/2024 → 14/04/2024 | B19: =SUM(Días!C117:C123) -> 7 | C19: =SUM(Días!D117:D123) -> 5 | D19: =SUM(Días!E117:E123) -> 2 | E19: =SUM(Días!F117:F123) -> 0 | F19: =SUM(Días!H117:H123) -> 0 | G19: =SUM(Días!L117:L123) -> 0
A20: 15/04/2024 → 21/04/2024 | B20: =SUM(Días!C124:C130) -> 7 | C20: =SUM(Días!D124:D130) -> 5 | D20: =SUM(Días!E124:E130) -> 2 | E20: =SUM(Días!F124:F130) -> 0 | F20: =SUM(Días!H124:H130) -> 0 | G20: =SUM(Días!L124:L130) -> 0
A21: 22/04/2024 → 28/04/2024 | B21: =SUM(Días!C131:C137) -> 7 | C21: =SUM(Días!D131:D137) -> 5 | D21: =SUM(Días!E131:E137) -> 2 | E21: =SUM(Días!F131:F137) -> 0 | F21: =SUM(Días!H131:H137) -> 0 | G21: =SUM(Días!L131:L137) -> 0
A22: 29/04/2024 → 30/04/2024 | B22: =SUM(Días!C138:C139) -> 2 | C22: =SUM(Días!D138:D139) -> 2 | D22: =SUM(Días!E138:E139) -> 0 | E22: =SUM(Días!F138:F139) -> 0 | F22: =SUM(Días!H138:H139) -> 0 | G22: =SUM(Días!L138:L139) -> 0
A23: Total | B23: =SUM(B2:B22) -> 138 | C23: =SUM(C2:C22) -> 93 | D23: =SUM(D2:D22) -> 40 | E23: =SUM(E2:E22) -> 5 | F23: =SUM(F2:F22) -> 0 | G23: =SUM(G2:G22) -> 0

Sheet Meses
A1: Mes | B1: Días | C1: Días laborables | D1: Fin de semana | E1: Días feriados | F1: Custom dates | G1: Horas de trabajo
A2: Diciembre 2023 | B2: =SUM(Días!C2:C18) -> 17 | C2: =SUM(Días!D2:D18) -> 10 | D2: =SUM(Días!E2:E18) -> 6 | E2: =SUM(Días!F2:F18) -> 1 | F2: =SUM(Días!H2:H18) -> 0 | G2: =SUM(Días!L2:L18) -> 0
A3: Enero 2024 | B3: =SUM(Días!C19:C49) -> 31 | C3: =SUM(Días!D19:D49) -> 22 | D3: =SUM(Días!E19:E49) -> 8 | E3: =SUM(Días!F19:F49) -> 1 | F3: =SUM(Días!H19:H49) -> 0 | G3: =SUM(Días!L19:L49) -> 0
A4: Febrero 2024 | B4: =SUM(Días!C50:C78) -> 29 | C4: =SUM(Días!D50:D78) -> 20 | D4: =SUM(Días!E50:E78) -> 8 | E4: =SUM(Días!F50:F78) -> 1 | F4: =SUM(Días!H50:H78) -> 0 | G4: =SUM(Días!L50:L78) -> 0
A5: Marzo 2024 | B5: =SUM(Días!C79:C109) -> 31 | C5: =SUM(Días!D79:D109) -> 19 | D5: =SUM(Días!E79:E109) -> 10 | E5: =SUM(Días!F79:F109) -> 2 | F5: =SUM(Días!H79:H109) -> 0 | G5: =SUM(Días!L79:L109) -> 0
A6: Abril 2024 | B6: =SUM(Días!C110:C139) -> 30 | C6: =SUM(Días!D110:D139) -> 22 | D6: =SUM(Días!E110:E139) -> 8 | E6: =SUM(Días!F110:F139) -> 0 | F6: =SUM(Días!H110:H139) -> 0 | G6: =SUM(Días!L110:L139) -> 0
A7: Total | B7: =SUM(B2:B6) -> 138 | C7: =SUM(C2:C6) -> 93 | D7: =SUM(D2:D6) -> 40 | E7: =SUM(E2:E6) -> 5 | F7: =SUM(F2:F6) -> 0 | G7: =SUM(G2:G6) -> 0

Sheet Años
A1: Año | B1: Días | C1: Días laborables | D1: Fin de semana | E1: Días feriados | F1: Custom dates | G1: Horas de trabajo
A2: 2023 | B2: =SUM(Días!C2:C18) -> 17 | C2: =SUM(Días!D2:D18) -> 10 | D2: =SUM(Días!E2:E18) -> 6 | E2: =SUM(Días!F2:F18) -> 1 | F2: =SUM(Días!H2:H18) -> 0 | G2: =SUM(Días!L2:L18) -> 0
A3: 2024 | B3: =SUM(Días!C19:C139) -> 121 | C3: =SUM(Días!D19:D139) -> 83 | D3: =SUM(Días!E19:E139) -> 34 | E3: =SUM(Días!F19:F139) -> 4 | F3: =SUM(Días!H19:H139) -> 0 | G3: =SUM(Días!L19:L139) -> 0
A4: Total | B4: =SUM(B2:B3) -> 138 | C4: =SUM(C2:C3) -> 93 | D4: =SUM(D2:D3) -> 40 | E4: =SUM(E2:E3) -> 5 | F4: =SUM(F2:F3) -> 0 | G4: =SUM(G2:G3) -> 0
